BEGIN:VCALENDAR
VERSION:2.0
PRODID:-//ChamberMaster//Event Calendar 2.0//EN
METHOD:PUBLISH
X-PUBLISHED-TTL:P3D
REFRESH-INTERVAL:P3D
CALSCALE:GREGORIAN
BEGIN:VEVENT
DTSTART:20180308T190000Z
DTEND:20180308T193000Z
X-MICROSOFT-CDO-ALLDAYEVENT:FALSE
SUMMARY:180 Healthcare Ribbon Cutting
DESCRIPTION:Join us as we celebrate one of Cape Girardeau's newest businesses!
X-ALT-DESC;FMTTYPE=text/html:Join us as we celebrate one of Cape Girardeau&#39\;s newest businesses!
LOCATION:24 N. Sprigg St. Cape Girardeau\, MO
UID:e.1421.3882
SEQUENCE:3
DTSTAMP:20260423T222308Z
URL:https://business.capechamber.com/events/details/180-healthcare-ribbon-cutting-3882
END:VEVENT

END:VCALENDAR
