BEGIN:VCALENDAR
VERSION:2.0
PRODID:-//ChamberMaster//Event Calendar 2.0//EN
METHOD:PUBLISH
X-PUBLISHED-TTL:P3D
REFRESH-INTERVAL:P3D
CALSCALE:GREGORIAN
BEGIN:VEVENT
DTSTART:20210402T180000Z
DTEND:20210402T183000Z
X-MICROSOFT-CDO-ALLDAYEVENT:FALSE
SUMMARY:20 North Pacific LLC Ribbon Cutting
DESCRIPTION:Join us as we celebrate 20 North Pacific LLC grand re-opening with a ribbon cutting!
X-ALT-DESC;FMTTYPE=text/html:Join us as we celebrate <a href="https://business.capechamber.com/list/member/20-north-pacific-llc-7933" target="_blank"><span style="color:#38B449\;">20 North Pacific LLC</span></a>&nbsp\;grand re-opening with a ribbon cutting!&nbsp\;
LOCATION:20 North Pacific Cape Girardeau\, MO 63701
UID:e.1421.7685
SEQUENCE:3
DTSTAMP:20260420T084315Z
URL:https://business.capechamber.com/events/details/20-north-pacific-llc-ribbon-cutting-7685
END:VEVENT

END:VCALENDAR
