BEGIN:VCALENDAR
VERSION:2.0
PRODID:-//ChamberMaster//Event Calendar 2.0//EN
METHOD:PUBLISH
X-PUBLISHED-TTL:P3D
REFRESH-INTERVAL:P3D
CALSCALE:GREGORIAN
BEGIN:VEVENT
DTSTART:20180427T150000Z
DTEND:20180427T190000Z
X-MICROSOFT-CDO-ALLDAYEVENT:FALSE
SUMMARY:2018 Missouri Manufacturing Challenge Workshop Series - Lean Executive Overview
DESCRIPTION:From learning about value-added vs. non-value-added processes\, to the benefits of incorporating 5S\, to efficiency in warehousing this executive overview will provide actionable knowledge for you to take back to your place of business.\n\nThe session will be led by Dave Goebel\, a Lean Practitioner who has been applying Lean principles for nearly 30 years. In addition\, Dave is certified as a Silver Level Lean Practitioner by the Society of Manufacturing Engineers.\n\n The content covered in this session includes:\n\n \n\n	 How Lean fits into a Continuous Improvement System\n	 Lean Tools and Terminology\n	\n		Defining Lean\n		The Goals of Lean\n		Value Added vs. Non-Value Added\n		Management Responsibilities\n		Lean Culture\n		The 8 Wastes of Lean\n		Standard Work\n		5S\n		Visual Controls\n		Facility Layout\n		Quality at the Source\n		Teams\n		Batch Reduction\n		Point of Use Storage\n		Push vs. Pull\n		Kanban\n		Quick Changeover\n		Cells\n		Takt Time\n		Total Productive Maintenance\n		Value Stream Mapping\n		Poka Yoke\n	\n	\n	 Why Lean Sometimes Fails\n\n \n\nThe knowledge that you'll gain in this event will potentially take your organization to new levels of performance. Please come and join us\n\n\n\nA promo code to receive $100 off this $150 training is available for all Cape Chamber members. Call our office for more details. 573-335-3312\n\n\n\nRegister here
X-ALT-DESC;FMTTYPE=text/html:<strong style="box-sizing:inherit\;">From learning about value-added vs. non-value-added processes\, to the benefits of incorporating 5S\, to efficiency in warehousing&mdash\;this executive overview will provide actionable knowledge for you to take back to your place of business.</strong><br />\n<strong style="box-sizing:inherit\;">The session will be led by Dave Goebel\, a Lean Practitioner who has been applying Lean principles for nearly 30 years. In addition\, Dave is certified as a Silver Level Lean Practitioner by the Society of Manufacturing Engineers.</strong><br />\n<strong style="box-sizing:inherit\;">&nbsp\;The content covered in this session includes:</strong><br style="box-sizing:inherit\;" />\n&nbsp\;\n<ul>\n	<li style="box-sizing:inherit\;padding-left:30px\;text-indent:-30px\;">&nbsp\;How Lean fits into a Continuous Improvement System</li>\n	<li style="box-sizing:inherit\;padding-left:30px\;text-indent:-30px\;">&nbsp\;Lean Tools and Terminology\n	<ul>\n		<li style="box-sizing:inherit\;padding-left:30px\;text-indent:-30px\;">Defining Lean</li>\n		<li style="box-sizing:inherit\;padding-left:30px\;text-indent:-30px\;">The Goals of Lean</li>\n		<li style="box-sizing:inherit\;padding-left:30px\;text-indent:-30px\;">Value Added vs. Non-Value Added</li>\n		<li style="box-sizing:inherit\;padding-left:30px\;text-indent:-30px\;">Management Responsibilities</li>\n		<li style="box-sizing:inherit\;padding-left:30px\;text-indent:-30px\;">Lean Culture</li>\n		<li style="box-sizing:inherit\;padding-left:30px\;text-indent:-30px\;">The 8 Wastes of Lean</li>\n		<li style="box-sizing:inherit\;padding-left:30px\;text-indent:-30px\;">Standard Work</li>\n		<li style="box-sizing:inherit\;padding-left:30px\;text-indent:-30px\;">5S</li>\n		<li style="box-sizing:inherit\;padding-left:30px\;text-indent:-30px\;">Visual Controls</li>\n		<li style="box-sizing:inherit\;padding-left:30px\;text-indent:-30px\;">Facility Layout</li>\n		<li style="box-sizing:inherit\;padding-left:30px\;text-indent:-30px\;">Quality at the Source</li>\n		<li style="box-sizing:inherit\;padding-left:30px\;text-indent:-30px\;">Teams</li>\n		<li style="box-sizing:inherit\;padding-left:30px\;text-indent:-30px\;">Batch Reduction</li>\n		<li style="box-sizing:inherit\;padding-left:30px\;text-indent:-30px\;">Point of Use Storage</li>\n		<li style="box-sizing:inherit\;padding-left:30px\;text-indent:-30px\;">Push vs. Pull</li>\n		<li style="box-sizing:inherit\;padding-left:30px\;text-indent:-30px\;">Kanban</li>\n		<li style="box-sizing:inherit\;padding-left:30px\;text-indent:-30px\;">Quick Changeover</li>\n		<li style="box-sizing:inherit\;padding-left:30px\;text-indent:-30px\;">Cells</li>\n		<li style="box-sizing:inherit\;padding-left:30px\;text-indent:-30px\;">Takt Time</li>\n		<li style="box-sizing:inherit\;padding-left:30px\;text-indent:-30px\;">Total Productive Maintenance</li>\n		<li style="box-sizing:inherit\;padding-left:30px\;text-indent:-30px\;">Value Stream Mapping</li>\n		<li style="box-sizing:inherit\;padding-left:30px\;text-indent:-30px\;">Poka Yoke</li>\n	</ul>\n	</li>\n	<li style="box-sizing:inherit\;padding-left:30px\;text-indent:-30px\;">&nbsp\;Why Lean Sometimes Fails</li>\n</ul>\n&nbsp\;<br />\nThe knowledge that you&rsquo\;ll gain in this event will potentially take your organization to new levels of performance. Please come and join us<br />\n<br />\n<strong>A promo code to receive $100 off this $150 training is available for all Cape Chamber members. Call our office for more details. 573-335-3312</strong><br />\n<br />\n<strong>Register <a href="http://missourienterprise.org/events/workshop/missouri-manufacturing-challenge-series-lean-executive-overview" target="_blank">here</a></strong>
LOCATION:Regional Development Center Cape Chamber 220 N. Fountain Cape Girardeau\, MO
UID:e.1421.4332
SEQUENCE:3
DTSTAMP:20260423T235429Z
URL:https://business.capechamber.com/events/details/2018-missouri-manufacturing-challenge-workshop-series-lean-executive-overview-4332
END:VEVENT

END:VCALENDAR
