BEGIN:VCALENDAR
VERSION:2.0
PRODID:-//ChamberMaster//Event Calendar 2.0//EN
METHOD:PUBLISH
X-PUBLISHED-TTL:P3D
REFRESH-INTERVAL:P3D
CALSCALE:GREGORIAN
BEGIN:VEVENT
DTSTART:20260320T223000Z
DTEND:20260321T013000Z
X-MICROSOFT-CDO-ALLDAYEVENT:FALSE
SUMMARY:2026 Annual Dinner
DESCRIPTION:We look forward to celebrating the Cape Girardeau region and the many businesses that make our community great with you at Annual Dinner! Here's what you can expect for the evening:\n\n\n\n\n\nAttire\n\nAs with previous Annual Dinner events\, business professional/formal attire is suggested. \n\n\n\n\n\nCheck In\n\nWe're skipping the dreaded check in lines by sending seating assignments ahead of the event! There is no need to have your ticket ready upon arrival. Just keep your table number at top of mind and help yourself to your table. If you need assistance\, Cape Chamber Ambassadors will be available to help find your seat.\n\n\n\n\n\nSeating\n\nSeating assignments will be emailed to the individual who registered your seats by March 18th\, and again the morning of the event. Guests who received seating assignments by email should share with the other attendees they registered. \n\n\n\n(For example: Rob purchased a table for himself and 7 team members. Even though Rob provided the names of the team members attending\, Rob is the only registrant at the table to receive the seating assignment. Rob is responsible for sharing the seating assignment with his team members.)\n\n\n\nNot sure which table you're at? If you're needing guidance before the event\, give us a call at 573-335-3312.  If you're at the event and unsure of your seating\, find an Ambassador in a green blazer with a clipboard near the main entrance for assistance.\n\n\n\nBars\n\nHost selection of beer and wine compliments of Kohlfeld Distributing with Cash Bar available for cocktail options.\n\n\n\nMenu\n\nCatered by Chartwells\n\nItalian Chopped Salad\n\nPan Seared Chicken Breast in Butter White Wine Pan Sauce\n\nRed Wine Braised Beef Tips\n\nCreamy Tomato Basil Penne Pasta Bake\n\nHerb Roasted Tricolored Fingerling Potatoes\n\nRoasted Vegtable Medley\n\nChocolate Layer Cake\n\nLemon Meringue Pie\n\n\n\nOrder of Events\n\n5:30 p.m. - Networking Reception by Kohlfeld Distributing\n\n6:30 p.m. - Program and Dinner\n\n\n\nSocial Hour\n\n- Pledge of Allegiance\n\n- Recognition of Partners\n\n- Recognition of Annual Dinner Sponsors\n\n- Invocation\n\n\n\nServing - Chartwells\n\n\n\nProgram Recognitions\n\n- Volunteers\n\n- Chair Recognition\n\n- Board of Directors Recognition\n\n\n\nAwards\n\n- Membership Milestones\n\n- Ambassador of the Year Award\n\n- Small Business of the Year Award\n\n- Young Professional of the Year Award\n\n- Drury Family Spirit of Entrepreneurship Award\n\n- Rush H. Limbaugh Award\n\n\n\nClosing Comments\n\n\n\n* Please note: The Cape Chamber office will close at 2 p.m. on March 20th to prepare for Annual Dinner.
X-ALT-DESC;FMTTYPE=text/html:We look forward to celebrating&nbsp\;the Cape Girardeau&nbsp\;region and the many businesses that make our community great with you at Annual Dinner! Here&#39\;s what you can expect for the evening:<br />\n<br />\n<br />\n<span style="font-size: 18px\;"><strong>Attire</strong></span><br />\nAs with previous Annual Dinner events\, business professional/formal attire is suggested.&nbsp\;<br />\n<br />\n<br />\n<span style="font-size: 18px\;"><strong>Check In</strong></span><br />\nWe&#39\;re skipping the dreaded check in lines by sending seating assignments ahead of the event! There is no need to have your ticket ready upon arrival. Just&nbsp\;<strong>keep your table number at top of mind and help yourself to your table.</strong>&nbsp\;If you need assistance\, Cape Chamber Ambassadors will be available to help find your seat.<br />\n<br />\n<br />\n<span style="font-size: 18px\;"><b>Seating</b></span><br />\nSeating assignments will be&nbsp\;<strong>emailed to the individual who registered your seats</strong>&nbsp\;by March 18th\, and again the morning of the event. Guests who received seating assignments by email should share with the other attendees they registered.&nbsp\;<br />\n<br />\n(For example: Rob purchased a table for himself and 7 team members. Even though Rob provided the names of the team members attending\, Rob is the only registrant at the table to receive the seating assignment. Rob is responsible for sharing the seating assignment with his team members.)<br />\n<br />\nNot sure which table you&#39\;re at? If you&#39\;re needing guidance before the event\, give us a call at 573-335-3312.&nbsp\; If you&#39\;re at the event and unsure of your seating\, find an Ambassador in a green blazer with a clipboard near the main entrance for assistance.<br />\n<br />\n<span style="font-size: 18px\;"><b>Bars</b></span><br />\nHost selection of beer and wine compliments of Kohlfeld Distributing with Cash Bar available for cocktail options.<br />\n<br />\n<span style="font-size: 18px\;"><strong>Menu</strong></span><br />\n<i>Catered by Chartwells</i><br />\nItalian Chopped Salad<br />\nPan Seared Chicken Breast in Butter White Wine Pan Sauce<br />\nRed Wine Braised Beef Tips<br />\nCreamy Tomato Basil Penne Pasta Bake<br />\nHerb Roasted Tricolored Fingerling Potatoes<br />\nRoasted Vegtable Medley<br />\nChocolate Layer Cake<br />\nLemon Meringue Pie<br />\n<br />\n<span style="font-size: 18px\;"><strong>Order of Events</strong></span><br />\n5:30 p.m. - Networking Reception by Kohlfeld Distributing<br />\n6:30 p.m. - Program and Dinner<br />\n<br />\n<strong>Social Hour</strong><br />\n- Pledge of Allegiance<br />\n- Recognition of Partners<br />\n- Recognition of Annual Dinner Sponsors<br />\n- Invocation<br />\n<br />\n<strong>Serving - Chartwells</strong><br />\n<br />\n<strong>Program Recognitions</strong><br />\n- Volunteers<br />\n- Chair Recognition<br />\n- Board of Directors Recognition<br />\n<br />\n<strong>Awards</strong><br />\n- Membership Milestones<br />\n- Ambassador of the Year Award<br />\n- Small Business of the Year Award<br />\n- Young Professional of the Year Award<br />\n- Drury Family Spirit of Entrepreneurship Award<br />\n- Rush H. Limbaugh Award<br />\n<br />\n<strong>Closing Comments</strong><br />\n<br />\n<em>* Please note: The Cape Chamber office will close at 2 p.m. on March 20th to prepare for Annual Dinner.</em>
LOCATION:Show Me Center 1333 North Sprigg St. Cape Girardeau\, MO
UID:e.1421.12497
SEQUENCE:3
DTSTAMP:20260423T100046Z
URL:https://business.capechamber.com/events/details/2026-annual-dinner-12497
END:VEVENT

END:VCALENDAR
