BEGIN:VCALENDAR
VERSION:2.0
PRODID:-//ChamberMaster//Event Calendar 2.0//EN
METHOD:PUBLISH
X-PUBLISHED-TTL:P3D
REFRESH-INTERVAL:P3D
CALSCALE:GREGORIAN
BEGIN:VEVENT
DTSTART:20180717T200000Z
DTEND:20180717T203000Z
X-MICROSOFT-CDO-ALLDAYEVENT:FALSE
SUMMARY:360 Living Ribbon Cutting
DESCRIPTION:Join us in celebrating 360 Living's grand opening!
X-ALT-DESC;FMTTYPE=text/html:Join us in celebrating 360 Living&#39\;s grand opening!
LOCATION:3203 Blattner Dr. Cape Girardeau\, MO
UID:e.1421.5567
SEQUENCE:3
DTSTAMP:20260424T042905Z
URL:https://business.capechamber.com/events/details/360-living-ribbon-cutting-5567
END:VEVENT

END:VCALENDAR
