BEGIN:VCALENDAR
VERSION:2.0
PRODID:-//ChamberMaster//Event Calendar 2.0//EN
METHOD:PUBLISH
X-PUBLISHED-TTL:P3D
REFRESH-INTERVAL:P3D
CALSCALE:GREGORIAN
BEGIN:VEVENT
DTSTART:20260209T190000Z
DTEND:20260209T193000Z
X-MICROSOFT-CDO-ALLDAYEVENT:FALSE
SUMMARY:AdvantageTrust Ribbon Cutting
DESCRIPTION:Join us as we celebrate our newest member AdvantageTrust with a ribbon cutting! Help us celebrate their membership and brand-new facility.
X-ALT-DESC;FMTTYPE=text/html:Join us as we celebrate our newest member <a href="https://business.capechamber.com/list/member/advantagetrust-8824"><span style="color:#00cc33\;">AdvantageTrust</span></a> with a ribbon cutting! Help us celebrate their membership and brand-new facility.
LOCATION:576 S. Mt Auburn Rd\, Second Floor Cape Girardeau\, MO 63703
UID:e.1421.12668
SEQUENCE:3
DTSTAMP:20260424T170814Z
URL:https://business.capechamber.com/events/details/advantagetrust-ribbon-cutting-12668
END:VEVENT

END:VCALENDAR
