BEGIN:VCALENDAR
VERSION:2.0
PRODID:-//ChamberMaster//Event Calendar 2.0//EN
METHOD:PUBLISH
X-PUBLISHED-TTL:P3D
REFRESH-INTERVAL:P3D
CALSCALE:GREGORIAN
BEGIN:VEVENT
DTSTART:20180927T180000Z
DTEND:20180927T210000Z
X-MICROSOFT-CDO-ALLDAYEVENT:FALSE
SUMMARY:Afternoon Session - A Passion for Service | How to Win Customers and Reduce Lost Sales
DESCRIPTION:Bill Drury is a man with a passion.  He is on a mission to help businesses create lifetime loyal customers. On (date) he will present an action-packed 1/2 day workshop with proven strategies and techniques to help everyone in the company win customers and reduce lost sales.\n\n \n\nSome disturbing service facts:\n\n \n\nFACT: 96% of unhappy customers never complain about discourtesy\, but 91% of them will not buy again from a business that offended them.\n\n \n\nFACT: Customers who encounter poor service tell an average of 11 other people about their bad experience.\n\n \n\nFACT: 68% of customers who stop doing business with a company do so because of perceived indifference -- nobody cares.\n\n \n\nFACT: Courting new business can cost up to five times more than strengthening relationships with current clients.\n\n \n\nOn September 27 there will be a morning and afternoon presentation of the workshop (both sessions identical)\, allowing employers to send half their people in the morning and half in the afternoon.\n\n \n\nWe've heard fantastic feedback about this program!\n\n \n\nZig Ziglar said about Bill Drury\n\n"...Bill has conducted over three hundred workshops for the Zig Ziglar Corporation -- we always got good reviews.  He knows what he is talking about. He has an excellent style of delivery.  Your people and your company will be better off after hearing Bill Drury."
X-ALT-DESC;FMTTYPE=text/html:<p>Bill Drury is a man with a passion.&nbsp\; He is on a mission to help businesses create lifetime loyal customers. On (date) he will present an action-packed 1/2 day workshop with proven strategies and techniques to help everyone in the company win customers and reduce lost sales.<br />\n&nbsp\;<br />\nSome disturbing service facts:<br />\n&nbsp\;<br />\nFACT: 96% of unhappy customers never complain about discourtesy\, but 91% of them will not buy again from a business that offended them.<br />\n&nbsp\;<br />\nFACT: Customers who encounter poor service tell an average of 11 other people about their bad experience.<br />\n&nbsp\;<br />\nFACT: 68% of customers who stop doing business with a company do so because of perceived indifference -- nobody cares.<br />\n&nbsp\;<br />\nFACT: Courting new business can cost up to five times more than strengthening relationships with current clients.<br />\n&nbsp\;<br />\nOn September 27 there will be a morning and afternoon presentation of the workshop (both sessions identical)\, allowing employers to send half their people in the morning and half in the afternoon.<br />\n&nbsp\;<br />\nWe&#39\;ve heard fantastic feedback about this program!<br />\n&nbsp\;<br />\nZig Ziglar said about Bill Drury<br />\n&quot\;...Bill has conducted over three hundred workshops for the Zig Ziglar Corporation -- we always got good reviews.&nbsp\; He knows what he is talking about. He has an excellent style of delivery.&nbsp\; Your people and your company will be better off after hearing Bill Drury.&quot\;<br />\n&nbsp\;</p>\n
LOCATION:Osage Centre
UID:e.1421.5622
SEQUENCE:3
DTSTAMP:20260424T071949Z
URL:https://business.capechamber.com/events/details/afternoon-session-a-passion-for-service-how-to-win-customers-and-reduce-lost-sales-5622
END:VEVENT

END:VCALENDAR
