BEGIN:VCALENDAR
VERSION:2.0
PRODID:-//ChamberMaster//Event Calendar 2.0//EN
METHOD:PUBLISH
X-PUBLISHED-TTL:P3D
REFRESH-INTERVAL:P3D
CALSCALE:GREGORIAN
BEGIN:VEVENT
DTSTART;VALUE=DATE:20170801
DTEND;VALUE=DATE:20170802
TRANSP:TRANSPARENT
X-MICROSOFT-CDO-ALLDAYEVENT:TRUE
SUMMARY:Agriculture Technology Workshop Series
DESCRIPTION:The Economic and Business Engagement Center at Southeast Missouri State University is hosting an Agriculture Technology Workshop Series to help agribusinesses and entrepreneurs gain insight into ag tech innovations and regional resources available to them.\n\n\n\nThe series includes an event each Tuesday and Thursday of the first two weeks in August. The series will kick off Aug. 1 with the Small Business and Technology Development Center (SBTDC) hosting an international trade presentation. Experts will be available during this presentation to answer questions about exporting food and ag products. SBTDC will then host a farm and ag products tour\, highlighting agribusinesses in the Missouri Bootheel. The series will culminate with two workshops highlighting technology uses in agriculture\, including a demonstration of drone use in agriculture at the Sikeston Irrigation Field adjacent to the Sikeston Regional Campus.\n\n\n\n"Bringing agribusiness and ag producer expertise to the region through this workshop series is another demonstration of Southeast Missouri State University's commitment to the agriculture industry\," said Engagement Center Director Crystal Jones. "These workshops are just one example of how we are collaborating with public agencies and local businesses to advance the regional economy."\n\n\n\nFood & Ag Products Exporting\n\n  Tuesday\, Aug. 1\, 11 a.m.-1 p.m.\n\n  Malden Regional Campus\, Room 131\n\n  Sponsored By: Progressive Farm Credit Services\n\n  Food Exporting presentation by Jakob Pallesen\, National Association of Small Business International Trade Educators (NASBITE)\, Certified Global Business Professional (CGBP) and SBTDC Business Development Associate\n\n  Panel Discussion and Q&A with Kayla Otto\, Missouri Department of Agriculture marketing specialist and John F. Hensley\, Missouri Department of Economic Development trade manager\n\n\n\nFarm Tour   Sustainable Farm Practices\n\n  Thursday\, Aug. 3\, 10 a.m.-4 p.m.\n\n  Caravan starts at Malden Specialty Soy at 3213 Federal Drive in Malden\n\n  Sponsored By: Kennett City\, Light\, Gas & Water\n\n  Presentations and tours from Malden Specialty Soy\, Jim Shepard and McKaskle Farms\n\n\n\nPrecision Agriculture I\n\n  Tuesday\, Aug. 8\, 11 a.m.-1 p.m.\n\n  Malden Regional Campus\, Room 131\n\n  Sponsored By: First State Bank & Trust Company\n\n  Drones and Aero Imaging presentation by Andy Chronister\, Economic and Business Engagement Center agriculture technology coordinator\n\n  Technology and Equipment presentation by Jeff Gray\, CLAAS of North America product coordinator\n\n  Remote Sensors presentation by Damon Dowdy\, owner of TerraTek\n\n\n\nPrecision Agriculture II\n\n  Thursday\, Aug. 10\, 11 a.m.-1 p.m.\n\n  Malden Regional Campus\n\n  Presentations and demonstrations of agriculture-focused data software and management\n\n\n\nThis workshop series is one of the efforts of the Agriculture Technology Virtual Incubation program launched earlier this year from the Engagement Center to provide agriculture producers and innovators in the region with location-independent access to agriculture technology consultation and support.\n\n\n\nThe workshops are open to the public and there is no cost to attend\, but all who wish to attend must RSVP online. Lunch will be provided.\n\n\n\nTo RSVP or for more information on the Ag Tech Series and other upcoming events\, please visit engage.semo.edu/trainings.
X-ALT-DESC;FMTTYPE=text/html:<span style="color:#555555\;"><span style="font-family:calibri light\,sans-serif\;"><span style="font-size:14.0pt\;">The Economic and Business Engagement Center at Southeast Missouri State University is hosting an Agriculture Technology Workshop Series to help agribusinesses and entrepreneurs gain insight into ag tech innovations and regional resources available to them.</span></span></span><br />\n<br />\n<span style="color:#555555\;"><span style="font-family:calibri light\,sans-serif\;"><span style="font-size:14.0pt\;">The series includes an event each Tuesday and Thursday of the first two weeks in August. The series will kick off Aug. 1 with the Small Business and Technology Development Center (SBTDC) hosting an international trade presentation. Experts will be available during this presentation to answer questions about exporting food and ag products. SBTDC will then host a farm and ag products tour\, highlighting agribusinesses in the Missouri Bootheel. The series will culminate with two workshops highlighting technology uses in agriculture\, including a demonstration of drone use in agriculture at the Sikeston Irrigation Field adjacent to the Sikeston Regional Campus.</span></span></span><br />\n<br />\n<span style="color:#555555\;"><span style="font-family:calibri light\,sans-serif\;"><span style="font-size:14.0pt\;">&ldquo\;Bringing agribusiness and ag producer expertise to the region through this workshop series is another demonstration of Southeast Missouri State University&rsquo\;s commitment to the agriculture industry\,&rdquo\; said Engagement Center Director Crystal Jones. &ldquo\;These workshops are just one example of how we are collaborating with public agencies and local businesses to advance the regional economy.&rdquo\;</span></span></span><br />\n<br />\n<span style="color:#555555\;"><span style="font-family:calibri light\,sans-serif\;"><span style="font-size:14.0pt\;">Food &amp\; Ag Products Exporting</span></span></span><br />\n<span style="color:#555555\;"><span style="font-family:wingdings\;"><span style="font-size:10.0pt\;">&sect\;&nbsp\;</span></span></span><span style="color:#555555\;"><span style="font-family:calibri light\,sans-serif\;"><span style="font-size:14.0pt\;">Tuesday\, Aug. 1\, 11 a.m.-1 p.m.</span></span></span><br />\n<span style="color:#555555\;"><span style="font-family:wingdings\;"><span style="font-size:10.0pt\;">&sect\;&nbsp\;</span></span></span><span style="color:#555555\;"><span style="font-family:calibri light\,sans-serif\;"><span style="font-size:14.0pt\;">Malden Regional Campus\, Room 131</span></span></span><br />\n<span style="color:#555555\;"><span style="font-family:wingdings\;"><span style="font-size:10.0pt\;">&sect\;&nbsp\;</span></span></span><span style="color:#555555\;"><span style="font-family:calibri light\,sans-serif\;"><span style="font-size:14.0pt\;">Sponsored By: Progressive Farm Credit Services</span></span></span><br />\n<span style="color:#555555\;"><span style="font-family:wingdings\;"><span style="font-size:10.0pt\;">&sect\;&nbsp\;</span></span></span><span style="color:#555555\;"><span style="font-family:calibri light\,sans-serif\;"><span style="font-size:14.0pt\;">Food Exporting presentation by Jakob Pallesen\, National Association of Small Business International Trade Educators (NASBITE)\, Certified Global Business Professional (CGBP) and SBTDC Business Development Associate</span></span></span><br />\n<span style="color:#555555\;"><span style="font-family:wingdings\;"><span style="font-size:10.0pt\;">&sect\;&nbsp\;</span></span></span><span style="color:#555555\;"><span style="font-family:calibri light\,sans-serif\;"><span style="font-size:14.0pt\;">Panel Discussion and Q&amp\;A with Kayla Otto\, Missouri Department of Agriculture marketing specialist and John F. Hensley\, Missouri Department of Economic Development trade manager</span></span></span><br />\n<br />\n<span style="color:#555555\;"><span style="font-family:calibri light\,sans-serif\;"><span style="font-size:14.0pt\;">Farm Tour &ndash\; Sustainable Farm Practices</span></span></span><br />\n<span style="color:#555555\;"><span style="font-family:wingdings\;"><span style="font-size:10.0pt\;">&sect\;&nbsp\;</span></span></span><span style="color:#555555\;"><span style="font-family:calibri light\,sans-serif\;"><span style="font-size:14.0pt\;">Thursday\, Aug. 3\, 10 a.m.-4 p.m.</span></span></span><br />\n<span style="color:#555555\;"><span style="font-family:wingdings\;"><span style="font-size:10.0pt\;">&sect\;&nbsp\;</span></span></span><span style="color:#555555\;"><span style="font-family:calibri light\,sans-serif\;"><span style="font-size:14.0pt\;">Caravan starts at Malden Specialty Soy at 3213 Federal Drive in Malden</span></span></span><br />\n<span style="color:#555555\;"><span style="font-family:wingdings\;"><span style="font-size:10.0pt\;">&sect\;&nbsp\;</span></span></span><span style="color:#555555\;"><span style="font-family:calibri light\,sans-serif\;"><span style="font-size:14.0pt\;">Sponsored By: Kennett City\, Light\, Gas &amp\; Water</span></span></span><br />\n<span style="color:#555555\;"><span style="font-family:wingdings\;"><span style="font-size:10.0pt\;">&sect\;&nbsp\;</span></span></span><span style="color:#555555\;"><span style="font-family:calibri light\,sans-serif\;"><span style="font-size:14.0pt\;">Presentations and tours from Malden Specialty Soy\, Jim Shepard and McKaskle Farms</span></span></span><br />\n<br />\n<span style="color:#555555\;"><span style="font-family:calibri light\,sans-serif\;"><span style="font-size:14.0pt\;">Precision Agriculture I</span></span></span><br />\n<span style="color:#555555\;"><span style="font-family:wingdings\;"><span style="font-size:10.0pt\;">&sect\;&nbsp\;</span></span></span><span style="color:#555555\;"><span style="font-family:calibri light\,sans-serif\;"><span style="font-size:14.0pt\;">Tuesday\, Aug. 8\, 11 a.m.-1 p.m.</span></span></span><br />\n<span style="color:#555555\;"><span style="font-family:wingdings\;"><span style="font-size:10.0pt\;">&sect\;&nbsp\;</span></span></span><span style="color:#555555\;"><span style="font-family:calibri light\,sans-serif\;"><span style="font-size:14.0pt\;">Malden Regional Campus\, Room 131</span></span></span><br />\n<span style="color:#555555\;"><span style="font-family:wingdings\;"><span style="font-size:10.0pt\;">&sect\;&nbsp\;</span></span></span><span style="color:#555555\;"><span style="font-family:calibri light\,sans-serif\;"><span style="font-size:14.0pt\;">Sponsored By: First State Bank &amp\; Trust Company</span></span></span><br />\n<span style="color:#555555\;"><span style="font-family:wingdings\;"><span style="font-size:10.0pt\;">&sect\;&nbsp\;</span></span></span><span style="color:#555555\;"><span style="font-family:calibri light\,sans-serif\;"><span style="font-size:14.0pt\;">Drones and Aero Imaging presentation by Andy Chronister\, Economic and Business Engagement Center agriculture technology coordinator</span></span></span><br />\n<span style="color:#555555\;"><span style="font-family:wingdings\;"><span style="font-size:10.0pt\;">&sect\;&nbsp\;</span></span></span><span style="color:#555555\;"><span style="font-family:calibri light\,sans-serif\;"><span style="font-size:14.0pt\;">Technology and Equipment presentation by Jeff Gray\, CLAAS of North America product coordinator</span></span></span><br />\n<span style="color:#555555\;"><span style="font-family:wingdings\;"><span style="font-size:10.0pt\;">&sect\;&nbsp\;</span></span></span><span style="color:#555555\;"><span style="font-family:calibri light\,sans-serif\;"><span style="font-size:14.0pt\;">Remote Sensors presentation by Damon Dowdy\, owner of TerraTek</span></span></span><br />\n<br />\n<span style="color:#555555\;"><span style="font-family:calibri light\,sans-serif\;"><span style="font-size:14.0pt\;">Precision Agriculture II</span></span></span><br />\n<span style="color:#555555\;"><span style="font-family:wingdings\;"><span style="font-size:10.0pt\;">&sect\;&nbsp\;</span></span></span><span style="color:#555555\;"><span style="font-family:calibri light\,sans-serif\;"><span style="font-size:14.0pt\;">Thursday\, Aug. 10\, 11 a.m.-1 p.m.</span></span></span><br />\n<span style="color:#555555\;"><span style="font-family:wingdings\;"><span style="font-size:10.0pt\;">&sect\;&nbsp\;</span></span></span><span style="color:#555555\;"><span style="font-family:calibri light\,sans-serif\;"><span style="font-size:14.0pt\;">Malden Regional Campus</span></span></span><br />\n<span style="color:#555555\;"><span style="font-family:wingdings\;"><span style="font-size:10.0pt\;">&sect\;&nbsp\;</span></span></span><span style="color:#555555\;"><span style="font-family:calibri light\,sans-serif\;"><span style="font-size:14.0pt\;">Presentations and demonstrations of agriculture-focused data software and management</span></span></span><br />\n<br />\n<span style="color:#555555\;"><span style="font-family:calibri light\,sans-serif\;"><span style="font-size:14.0pt\;">This workshop series is one of the efforts of the Agriculture Technology Virtual Incubation program launched earlier this year from the Engagement Center to provide agriculture producers and innovators in the region with location-independent access to agriculture technology consultation and support.</span></span></span><br />\n<br />\n<span style="color:#555555\;"><span style="font-family:calibri light\,sans-serif\;"><span style="font-size:14.0pt\;">The workshops are open to the public and there is no cost to attend\, but all who wish to attend must RSVP online. Lunch will be provided.</span></span></span><br />\n<br />\n<span style="color:#555555\;"><span style="font-family:calibri light\,sans-serif\;"><span style="font-size:14.0pt\;">To RSVP or for more information on the Ag Tech Series and other upcoming events\, please visit&nbsp\;<a href="http://engage.semo.edu/trainings"><span style="border:1pt none windowtext\;padding:0in\;text-decoration-line:none\;"><span style="color:#b70000\;">engage.semo.edu/trainings</span></span></a>.</span></span></span><br />\n&nbsp\;
LOCATION:
UID:e.1421.1778
SEQUENCE:3
DTSTAMP:20260423T112605Z
URL:https://business.capechamber.com/events/details/agriculture-technology-workshop-series-1778
END:VEVENT

END:VCALENDAR
