BEGIN:VCALENDAR
VERSION:2.0
PRODID:-//ChamberMaster//Event Calendar 2.0//EN
METHOD:PUBLISH
X-PUBLISHED-TTL:P3D
REFRESH-INTERVAL:P3D
CALSCALE:GREGORIAN
BEGIN:VEVENT
DTSTART:20171023T160000Z
DTEND:20171023T163000Z
X-MICROSOFT-CDO-ALLDAYEVENT:FALSE
SUMMARY:Alliance Bank Ribbon Cutting
DESCRIPTION:Join us as we celebrate Alliance Bank's 20th Anniversary!\n\nOpen house to follow until 2:00 p.m.
X-ALT-DESC;FMTTYPE=text/html:Join us as we celebrate Alliance Bank&#39\;s 20th Anniversary!<br />\nOpen house to follow until 2:00 p.m.
LOCATION:217 N. Kingshighway Cape Girardeau\, MO
UID:e.1421.1798
SEQUENCE:3
DTSTAMP:20260423T142113Z
URL:https://business.capechamber.com/events/details/alliance-bank-ribbon-cutting-1798
END:VEVENT

END:VCALENDAR
