BEGIN:VCALENDAR
VERSION:2.0
PRODID:-//ChamberMaster//Event Calendar 2.0//EN
METHOD:PUBLISH
X-PUBLISHED-TTL:P3D
REFRESH-INTERVAL:P3D
CALSCALE:GREGORIAN
BEGIN:VEVENT
DTSTART:20180718T160000Z
DTEND:20180718T170000Z
X-MICROSOFT-CDO-ALLDAYEVENT:FALSE
SUMMARY:Ambassador Meeting
DESCRIPTION:Actively recruits prospective members to the Chamber. Assists with monthly networking events (Business After Hours & First Friday Coffee) and other orientation opportunities such as ribbon cuttings\, ground breaking\, etc.  Plays a supportive role in membership retention and conducts 2 membership recruitment events.\n\n\n\nContact Dana Brune with questions.
X-ALT-DESC;FMTTYPE=text/html:<span style="color: rgb(51\, 51\, 51)\; font-size: 13px\; font-family: &quot\;albertus mt lt&quot\;\;"><span style="font-size: 10pt\;">Actively recruits prospective members to the Chamber. Assists with monthly networking events (Business After Hours &amp\; First Friday Coffee) and other orientation opportunities such as ribbon cuttings\, ground breaking\, etc.&nbsp\; Plays a supportive role in membership retention and conducts 2 membership recruitment events.<br />\n<br />\nContact Dana Brune with questions.</span></span>
LOCATION:My Daddy's Cheesecake
UID:e.1421.3715
SEQUENCE:3
DTSTAMP:20260424T054023Z
URL:https://business.capechamber.com/events/details/ambassador-meeting-07-18-2018-3715
END:VEVENT

END:VCALENDAR
