BEGIN:VCALENDAR
VERSION:2.0
PRODID:-//ChamberMaster//Event Calendar 2.0//EN
METHOD:PUBLISH
X-PUBLISHED-TTL:P3D
REFRESH-INTERVAL:P3D
CALSCALE:GREGORIAN
BEGIN:VEVENT
DTSTART:20180207T220000Z
DTEND:20180207T223000Z
X-MICROSOFT-CDO-ALLDAYEVENT:FALSE
SUMMARY:Ameren Missouri
DESCRIPTION:Join us as we celebrate the remodel of Ameren Missouri with a ribbon cutting and open house!
X-ALT-DESC;FMTTYPE=text/html:Join us as we celebrate the remodel of Ameren Missouri with a ribbon cutting and open house!
LOCATION:45 Minnesota Ave Cape Girardeau\, MO
UID:e.1421.3859
SEQUENCE:3
DTSTAMP:20260423T205914Z
URL:https://business.capechamber.com/events/details/ameren-missouri-3859
END:VEVENT

END:VCALENDAR
