BEGIN:VCALENDAR
VERSION:2.0
PRODID:-//ChamberMaster//Event Calendar 2.0//EN
METHOD:PUBLISH
X-PUBLISHED-TTL:P3D
REFRESH-INTERVAL:P3D
CALSCALE:GREGORIAN
BEGIN:VEVENT
DTSTART:20170516T180000Z
DTEND:20170516T183000Z
X-MICROSOFT-CDO-ALLDAYEVENT:FALSE
SUMMARY:American Red Cross-Southeast Missouri Chapter Ribbon Cutting
DESCRIPTION:Our local American Red Cross chapter is celebrating 100 YEARS. Please stop by to help congratulate them and thank them for their continued support of the area and those in their time of need.
X-ALT-DESC;FMTTYPE=text/html:Our local American Red Cross chapter is celebrating 100 YEARS. Please stop by to help congratulate them and thank them for their continued support of the area and those in their time of need.
LOCATION:2430 Myra Drive Cape Girardeau\, MO
UID:e.1421.752
SEQUENCE:3
DTSTAMP:20260423T084847Z
URL:https://business.capechamber.com/events/details/american-red-cross-southeast-missouri-chapter-ribbon-cutting-752
END:VEVENT

END:VCALENDAR
