BEGIN:VCALENDAR
VERSION:2.0
PRODID:-//ChamberMaster//Event Calendar 2.0//EN
METHOD:PUBLISH
X-PUBLISHED-TTL:P3D
REFRESH-INTERVAL:P3D
CALSCALE:GREGORIAN
BEGIN:VEVENT
DTSTART:20180914T190000Z
DTEND:20180914T193000Z
X-MICROSOFT-CDO-ALLDAYEVENT:FALSE
SUMMARY:American RV Boat & Camper Storage Ribbon Cutting
DESCRIPTION:Join us as we celebrate R. H. holdings' new storage facility!
X-ALT-DESC;FMTTYPE=text/html:Join us as we celebrate R. H. holdings&#39\; new storage facility!
LOCATION:1904 Merriwether St. Cape Girardeau\, MO
UID:e.1421.5650
SEQUENCE:3
DTSTAMP:20260424T071908Z
URL:https://business.capechamber.com/events/details/american-rv-boat-camper-storage-ribbon-cutting-5650
END:VEVENT

END:VCALENDAR
