BEGIN:VCALENDAR
VERSION:2.0
PRODID:-//ChamberMaster//Event Calendar 2.0//EN
METHOD:PUBLISH
X-PUBLISHED-TTL:P3D
REFRESH-INTERVAL:P3D
CALSCALE:GREGORIAN
BEGIN:VEVENT
DTSTART:20180427T200000Z
DTEND:20180427T203000Z
X-MICROSOFT-CDO-ALLDAYEVENT:FALSE
SUMMARY:Amerimarket Ribbon Cutting
DESCRIPTION:Join us to celebrate Amerimarket's grand opening! The celebration festivities will continue from 4:00 - 6:00 PM following the ribbon cutting.
X-ALT-DESC;FMTTYPE=text/html:Join us to celebrate Amerimarket&#39\;s grand opening! The celebration festivities will continue from 4:00 - 6:00 PM following the ribbon cutting.
LOCATION:1320 W Cape Rock Dr. Cape Girardeau\, MO
UID:e.1421.4275
SEQUENCE:3
DTSTAMP:20260423T235432Z
URL:https://business.capechamber.com/events/details/amerimarket-ribbon-cutting-4275
END:VEVENT

END:VCALENDAR
