BEGIN:VCALENDAR
VERSION:2.0
PRODID:-//ChamberMaster//Event Calendar 2.0//EN
METHOD:PUBLISH
X-PUBLISHED-TTL:P3D
REFRESH-INTERVAL:P3D
CALSCALE:GREGORIAN
BEGIN:VEVENT
DTSTART:20170711T203000Z
DTEND:20170711T210000Z
X-MICROSOFT-CDO-ALLDAYEVENT:FALSE
SUMMARY:Angela Francis Interiors Ribbon Cutting
DESCRIPTION:Join us as we celebrate Angela Francis Interiors' new location.
X-ALT-DESC;FMTTYPE=text/html:Join us as we celebrate Angela Francis Interiors&#39\; new location.
LOCATION:1762 Independence St Cape Girardeau\, MO 63703
UID:e.1421.1765
SEQUENCE:3
DTSTAMP:20260423T112937Z
URL:https://business.capechamber.com/events/details/angela-francis-interiors-ribbon-cutting-1765
END:VEVENT

END:VCALENDAR
