BEGIN:VCALENDAR
VERSION:2.0
PRODID:-//ChamberMaster//Event Calendar 2.0//EN
METHOD:PUBLISH
X-PUBLISHED-TTL:P3D
REFRESH-INTERVAL:P3D
CALSCALE:GREGORIAN
BEGIN:VEVENT
DTSTART:20180127T000000Z
DTEND:20180127T030000Z
X-MICROSOFT-CDO-ALLDAYEVENT:FALSE
SUMMARY:Annual Dinner
DESCRIPTION:Join us for our annual celebration of the Cape Girardeau region and the many businesses that make our community great.\n\n\n\nCocktails at 6:00 p.m.\n\nDinner at 7:00 p.m.\n\n\n\nTickets can be reserved by calling our office at (573) 335-3312 or by emailing Michele Litzelfelner. Please reserve quickly as seating is limited. \n\n\n\n$45 per person\n\n$450 per table of 10
X-ALT-DESC;FMTTYPE=text/html:Join us for our annual celebration of the Cape Girardeau&nbsp\;region and the many businesses that make our community great.<br />\n<br />\nCocktails at 6:00 p.m.<br />\nDinner at 7:00 p.m.<br />\n<br />\n<strong>Tickets can be reserved by calling our office at (573) 335-3312 or by emailing <a href="mailto:mlitzelfelner@capechamber.com?subject=Annual%20Dinner%20Reservations">Michele Litzelfelner</a>. Please reserve quickly as seating is limited.&nbsp\;</strong><br />\n<br />\n$45 per person<br />\n$450 per table of 10<br />\n&nbsp\;
LOCATION:Drury Plaza Conference Center 3351 Percy Drive Cape Girardeau\, MO
UID:e.1421.2046
SEQUENCE:3
DTSTAMP:20260423T191700Z
URL:https://business.capechamber.com/events/details/annual-dinner-2046
END:VEVENT

END:VCALENDAR
