BEGIN:VCALENDAR
VERSION:2.0
PRODID:-//ChamberMaster//Event Calendar 2.0//EN
METHOD:PUBLISH
X-PUBLISHED-TTL:P3D
REFRESH-INTERVAL:P3D
CALSCALE:GREGORIAN
BEGIN:VEVENT
DTSTART:20180621T223000Z
DTEND:20180621T230000Z
X-MICROSOFT-CDO-ALLDAYEVENT:FALSE
SUMMARY:Art Van Furniture Ribbon Cutting
DESCRIPTION:Join us as we celebrate the grand opening of Art Van Furniture in Downtown Cape!
X-ALT-DESC;FMTTYPE=text/html:Join us as we celebrate the grand opening of <a href="https://www.capechamber.com/members/art-van-furniture" target="_blank"><span style="color:#008000\;">Art Van Furniture</span></a> in Downtown Cape!
LOCATION:43 S Main St\, Cape Girardeau\, MO
UID:e.1421.5552
SEQUENCE:3
DTSTAMP:20260424T025105Z
URL:https://business.capechamber.com/events/details/art-van-furniture-ribbon-cutting-5552
END:VEVENT

END:VCALENDAR
