BEGIN:VCALENDAR
VERSION:2.0
PRODID:-//ChamberMaster//Event Calendar 2.0//EN
METHOD:PUBLISH
X-PUBLISHED-TTL:P3D
REFRESH-INTERVAL:P3D
CALSCALE:GREGORIAN
BEGIN:VEVENT
DTSTART:20180302T170000Z
DTEND:20180302T173000Z
X-MICROSOFT-CDO-ALLDAYEVENT:FALSE
SUMMARY:Ashley Homestore Ribbon Cutting
DESCRIPTION:Join us to celebrate Ashley Furniture's grand opening! The event will be from 10:00-2:00 with the ribbon cutting at 11:00 AM.
X-ALT-DESC;FMTTYPE=text/html:Join us to celebrate Ashley Furniture&#39\;s grand opening! The event will be from 10:00-2:00 with the ribbon cutting at 11:00 AM.
LOCATION:3049 William Street Cape Girardeau\, MO
UID:e.1421.3914
SEQUENCE:3
DTSTAMP:20260423T222257Z
URL:https://business.capechamber.com/events/details/ashley-homestore-ribbon-cutting-3914
END:VEVENT

END:VCALENDAR
