BEGIN:VCALENDAR
VERSION:2.0
PRODID:-//ChamberMaster//Event Calendar 2.0//EN
METHOD:PUBLISH
X-PUBLISHED-TTL:P3D
REFRESH-INTERVAL:P3D
CALSCALE:GREGORIAN
BEGIN:VEVENT
DTSTART:20251002T210000Z
DTEND:20251002T213000Z
X-MICROSOFT-CDO-ALLDAYEVENT:FALSE
SUMMARY:Atelier Ribbon Cutting
DESCRIPTION:Join us as we celebrate the new location of Atelier with a ribbon cutting!
X-ALT-DESC;FMTTYPE=text/html:Join us as we celebrate the new location of <a href="https://business.capechamber.com/list/member/atelier-cape-llc-8774"><span style="color:#00cc33\;">A</span></a><a href="https://business.capechamber.com/list/member/atelier-cape-llc-8774"><span style="color:#00cc33\;">telier</span></a> with a ribbon cutting!&nbsp\;
LOCATION:32 N Main Street Cape Girardeau\, MO 63701
UID:e.1421.12494
SEQUENCE:3
DTSTAMP:20260424T232636Z
URL:https://business.capechamber.com/events/details/atelier-ribbon-cutting-12494
END:VEVENT

END:VCALENDAR
