BEGIN:VCALENDAR
VERSION:2.0
PRODID:-//ChamberMaster//Event Calendar 2.0//EN
METHOD:PUBLISH
X-PUBLISHED-TTL:P3D
REFRESH-INTERVAL:P3D
CALSCALE:GREGORIAN
BEGIN:VEVENT
DTSTART:20180717T160000Z
DTEND:20180717T163000Z
X-MICROSOFT-CDO-ALLDAYEVENT:FALSE
SUMMARY:Athletico Physical Therapy Ribbon Cutting
DESCRIPTION:Join us as we celebrate Athletic Physical Therapy's grand opening!
X-ALT-DESC;FMTTYPE=text/html:Join us as we celebrate Athletic Physical&nbsp\;Therapy&#39\;s grand opening!
LOCATION:2136 William St\, Suite 115 Cape Girardeau\, MO
UID:e.1421.5565
SEQUENCE:3
DTSTAMP:20260424T053845Z
URL:https://business.capechamber.com/events/details/athletico-physical-therapy-ribbon-cutting-5565
END:VEVENT

END:VCALENDAR
