BEGIN:VCALENDAR
VERSION:2.0
PRODID:-//ChamberMaster//Event Calendar 2.0//EN
METHOD:PUBLISH
X-PUBLISHED-TTL:P3D
REFRESH-INTERVAL:P3D
CALSCALE:GREGORIAN
BEGIN:VEVENT
DTSTART:20190123T200000Z
DTEND:20190123T203000Z
X-MICROSOFT-CDO-ALLDAYEVENT:FALSE
SUMMARY:Autism Awareness of Southeast Missouri Ribbon Cutting
DESCRIPTION:Join us in helping welcome Autism Awareness of Southeast Missouri to their new location.
X-ALT-DESC;FMTTYPE=text/html:Join us in helping welcome Autism Awareness of Southeast Missouri to their new location.&nbsp\;
LOCATION:755 S. Kingshighway Cape Girardeau\, MO
UID:e.1421.5880
SEQUENCE:3
DTSTAMP:20260424T061927Z
URL:https://business.capechamber.com/events/details/autism-awareness-of-southeast-missouri-ribbon-cutting-5880
END:VEVENT

END:VCALENDAR
