BEGIN:VCALENDAR
VERSION:2.0
PRODID:-//ChamberMaster//Event Calendar 2.0//EN
METHOD:PUBLISH
X-PUBLISHED-TTL:P3D
REFRESH-INTERVAL:P3D
CALSCALE:GREGORIAN
BEGIN:VEVENT
DTSTART:20180925T160000Z
DTEND:20180925T163000Z
X-MICROSOFT-CDO-ALLDAYEVENT:FALSE
SUMMARY:Autism Support Now Ribbon Cutting
DESCRIPTION:Join us as we celebrate the grand opening of Autism Support Now! An open house with light refreshments to follow the ribbon cutting.
X-ALT-DESC;FMTTYPE=text/html:Join us as we celebrate the grand opening of Autism Support Now! An open house with light refreshments to follow the ribbon cutting.&nbsp\;
LOCATION:1417 N. Mt. Auburn Rd. Suite C Cape Girardeau\, MO *Overfill parking behind
UID:e.1421.5649
SEQUENCE:3
DTSTAMP:20260424T071708Z
URL:https://business.capechamber.com/events/details/autism-support-now-ribbon-cutting-5649
END:VEVENT

END:VCALENDAR
