BEGIN:VCALENDAR
VERSION:2.0
PRODID:-//ChamberMaster//Event Calendar 2.0//EN
METHOD:PUBLISH
X-PUBLISHED-TTL:P3D
REFRESH-INTERVAL:P3D
CALSCALE:GREGORIAN
BEGIN:VEVENT
DTSTART:20190207T170000Z
DTEND:20190207T220000Z
X-MICROSOFT-CDO-ALLDAYEVENT:FALSE
SUMMARY:(B) Missouri Attorney General's Office
DESCRIPTION:
X-ALT-DESC;FMTTYPE=text/html:
LOCATION:
UID:e.1421.5892
SEQUENCE:3
DTSTAMP:20260424T044221Z
URL:https://business.capechamber.com/events/details/b-missouri-attorney-general-s-office-5892
END:VEVENT

END:VCALENDAR
