BEGIN:VCALENDAR
VERSION:2.0
PRODID:-//ChamberMaster//Event Calendar 2.0//EN
METHOD:PUBLISH
X-PUBLISHED-TTL:P3D
REFRESH-INTERVAL:P3D
CALSCALE:GREGORIAN
BEGIN:VEVENT
DTSTART:20191106T154500Z
DTEND:20191106T161500Z
X-MICROSOFT-CDO-ALLDAYEVENT:FALSE
SUMMARY:Bandana's BBQ Ribbon Cutting
DESCRIPTION:Join us as we help Bandana's BBQ celebrate their grand opening with a ribbon cutting!
X-ALT-DESC;FMTTYPE=text/html:Join us as we help Bandana&#39\;s BBQ celebrate their grand opening with a ribbon cutting!
LOCATION:156 Vantage Dr. Cape Girardeau\, MO
UID:e.1421.6493
SEQUENCE:3
DTSTAMP:20260423T142103Z
URL:https://business.capechamber.com/events/details/bandana-s-bbq-ribbon-cutting-6493
END:VEVENT

END:VCALENDAR
