BEGIN:VCALENDAR
VERSION:2.0
PRODID:-//ChamberMaster//Event Calendar 2.0//EN
METHOD:PUBLISH
X-PUBLISHED-TTL:P3D
REFRESH-INTERVAL:P3D
CALSCALE:GREGORIAN
BEGIN:VEVENT
DTSTART:20170803T210000Z
DTEND:20170803T213000Z
X-MICROSOFT-CDO-ALLDAYEVENT:FALSE
SUMMARY:Barrel 131 Ribbon Cutting
DESCRIPTION:Join us as we celebrate one of Jackson's newest restaurants\, Barrel 131.\n\n\n\nA craft beer and whiskey tasting will follow the ribbon cutting at 4:30. CarGO will be available with discounted rides.
X-ALT-DESC;FMTTYPE=text/html:Join us as we celebrate one of Jackson&#39\;s newest restaurants\, Barrel 131.<br />\n<br />\n<em>A craft beer and whiskey tasting will follow the ribbon cutting at 4:30. CarGO will be available with discounted rides.</em>
LOCATION:131 S High St Jackson\, MO 63755
UID:e.1421.1766
SEQUENCE:3
DTSTAMP:20260423T112651Z
URL:https://business.capechamber.com/events/details/barrel-131-ribbon-cutting-1766
END:VEVENT

END:VCALENDAR
