BEGIN:VCALENDAR
VERSION:2.0
PRODID:-//ChamberMaster//Event Calendar 2.0//EN
METHOD:PUBLISH
X-PUBLISHED-TTL:P3D
REFRESH-INTERVAL:P3D
CALSCALE:GREGORIAN
BEGIN:VEVENT
DTSTART:20180720T140000Z
DTEND:20180720T200000Z
X-MICROSOFT-CDO-ALLDAYEVENT:FALSE
SUMMARY:Becoming a Person of Influence Workshop
DESCRIPTION:Becoming a Person of Influence Workshop\n\n?Presented by Jeff & Tracey Glenn\, Certified Members of the John Maxwell Team\n\nDate: Friday\, July 20\, 2018\n\nTime: 9:00 a.m. to 3:00 p.m.\n\nLocation: The Concourse\, 429 N. Broadview\, Cape Girardeau\, MO\n\nPrice: $89/person includes lunch & materials\n\n \n\nAbout the Workshop\n\nEveryone influences others. You don't have to be in a high-profile occupation to be an influencer\; whenever your life connects with another person\, you exert influence. Everything you do - at home\, at work\, or at play - has an impact on the lives around you. No matter what your goals are in life\, you can achieve them faster\, you can be more effective and the contribution you make can be longer lasting if you learn to develop your influence.\n\n?During this workshop\, we'll discuss the 10 common characteristics people of influence share through an interactive presentation\, group discussions\, and activities. Before leaving the workshop\, you will have a written plan in place\, designed specifically for you to put principle to practice and increase your influence.\n\n \n\nAbout the John Maxwell Team\n\nJohn Maxwell's team of coaches\, trainers and speakers have been trained and certified by John to help you be intentional in your life both privately and professionally - by working with purpose and having a solid plan. Being intentional is about relying on a pre-determined strategy.\n\nOur coaches\, speakers and trainers are equipped with the best materials and have developed the proper skill sets to work with you one-on-one\, in group settings\, and through workshops and seminars to visualize\, create and execute a customized leadership strategy to best fit your needs.\n\n \n\nClick here to register for the workshop. \n\n(Note: If you receive an error message\, please contact tglenn@glennpr.com.)
X-ALT-DESC;FMTTYPE=text/html:<h1><span style="font-size:36px"><span style="color:rgb(0\, 0\, 0)"><strong>Becoming a Person of Influence&nbsp\;Workshop</strong></span></span></h1>\n\n<p><span style="color:rgb(0\, 0\, 0)">?<em><strong><span style="font-size:26px">Presented by Jeff &amp\; Tracey Glenn\, Certified Members&nbsp\;</span></strong></em></span><em><span style="color:rgb(0\, 0\, 0)"><strong><span style="font-size:26px">of the John Maxwell Team</span></strong></span></em></p>\n\n<p><strong><span style="color:rgb(0\, 0\, 0)"><span style="font-size:22px">Date: Friday\, July 20\, 2018</span></span></strong></p>\n\n<p><strong><span style="color:rgb(0\, 0\, 0)"><span style="font-size:22px">Time: 9:00 a.m. to 3:00 p.m.</span></span></strong></p>\n\n<p><strong><span style="color:rgb(0\, 0\, 0)"><span style="font-size:22px">Location: The Concourse\, 429 N. Broadview\, Cape Girardeau\, MO</span></span></strong></p>\n\n<p><span style="color:rgb(0\, 0\, 0)"><span style="font-size:22px"><strong>Price: $89/person includes lunch &amp\; materials</strong></span></span></p>\n\n<p>&nbsp\;</p>\n\n<p><strong><span style="font-size:22px"><span style="color:rgb(0\, 0\, 0)">About the Workshop</span></span></strong></p>\n\n<p><span style="font-size:22px"><span style="color:rgb(0\, 0\, 0)">Everyone influences others. You don&rsquo\;t have to be in a high-profile occupation to be an influencer\; whenever your life connects with another person\, you exert influence. Everything you do - at home\, at work\, or at play - has an impact on the lives around you. No matter what your goals are in life\, you can achieve them faster\, you can be more effective and the contribution you make can be longer lasting if you learn to develop your influence.</span></span></p>\n\n<p><span style="font-size:22px"><span style="color:rgb(0\, 0\, 0)">?During this workshop\, we&#39\;ll discuss the 10 common characteristics people of influence share through an interactive presentation\, group discussions\, and activities. Before leaving the workshop\, you will have a written plan in place\, designed specifically for you to put principle to practice and increase your influence.</span></span></p>\n\n<p>&nbsp\;</p>\n\n<p><strong><span style="color:rgb(0\, 0\, 0)"><span style="font-size:22px">About the John Maxwell Team</span></span></strong></p>\n\n<p><span style="color:rgb(0\, 0\, 0)"><span style="font-size:22px">John Maxwell&rsquo\;s team of coaches\, trainers and speakers have been trained and certified by John to help you be intentional in your life both privately and professionally - by working with purpose and having a solid plan. Being intentional is about relying on a pre-determined strategy.<br />\nOur coaches\, speakers and trainers are equipped with the best materials and have developed the proper skill sets to work with you one-on-one\, in group settings\, and through workshops and seminars to visualize\, create and execute a customized leadership strategy to best fit your needs.</span></span></p>\n\n<p>&nbsp\;</p>\n\n<h2><span style="font-size:22px"><span style="color:rgb(0\, 0\, 0)"><a href="https://www.glennpr.com/workshops.html">Click here to register for the workshop.</a>&nbsp\;</span></span></h2>\n\n<p><span style="font-size:22px"><span style="color:rgb(0\, 0\, 0)"><em>(Note: If you receive an error message\, please contact tglenn@glennpr.com.)</em></span></span></p>\n
LOCATION:The Concourse 429 N. Broadview Cape Girardeau\, MO 63701
UID:e.1421.5551
SEQUENCE:3
DTSTAMP:20260424T054121Z
URL:https://business.capechamber.com/events/details/becoming-a-person-of-influence-workshop-5551
END:VEVENT

END:VCALENDAR
