BEGIN:VCALENDAR
VERSION:2.0
PRODID:-//ChamberMaster//Event Calendar 2.0//EN
METHOD:PUBLISH
X-PUBLISHED-TTL:P3D
REFRESH-INTERVAL:P3D
CALSCALE:GREGORIAN
BEGIN:VEVENT
DTSTART:20181001T210000Z
DTEND:20181001T213000Z
X-MICROSOFT-CDO-ALLDAYEVENT:FALSE
SUMMARY:Beyond Commercials Ribbon Cutting
DESCRIPTION:Join us as we help Beyond Commercials celebrate their addition of Beyond Spaces\, a new rentable co-working space in Downtown Cape.
X-ALT-DESC;FMTTYPE=text/html:Join us as we help Beyond Commercials celebrate their addition of Beyond Spaces\, a new rentable co-working space in Downtown Cape.
LOCATION:339 Broadway St. Cape Girardeau\, MO
UID:e.1421.5663
SEQUENCE:3
DTSTAMP:20260424T090437Z
URL:https://business.capechamber.com/events/details/beyond-commercials-ribbon-cutting-5663
END:VEVENT

END:VCALENDAR
