BEGIN:VCALENDAR
VERSION:2.0
PRODID:-//ChamberMaster//Event Calendar 2.0//EN
METHOD:PUBLISH
X-PUBLISHED-TTL:P3D
REFRESH-INTERVAL:P3D
CALSCALE:GREGORIAN
BEGIN:VEVENT
DTSTART:20190321T213000Z
DTEND:20190321T220000Z
X-MICROSOFT-CDO-ALLDAYEVENT:FALSE
SUMMARY:Blackbird Monogram & Gift Ribbon Cutting
DESCRIPTION:Blackbird Monogram & Gift is celebrating their grand opening with a ribbon cutting! Be sure to join us as there will be complimentary wine\, appetizers\, and giveaways!
X-ALT-DESC;FMTTYPE=text/html:Blackbird Monogram &amp\; Gift is celebrating their grand opening with a ribbon cutting! Be sure to join us as there will be complimentary wine\, appetizers\, and giveaways!
LOCATION:1812 Carondolet Ave\, Ste. 104 Cape Girardeau\, MO
UID:e.1421.5902
SEQUENCE:3
DTSTAMP:20260424T044119Z
URL:https://business.capechamber.com/events/details/blackbird-monogram-gift-ribbon-cutting-5902
END:VEVENT

END:VCALENDAR
