BEGIN:VCALENDAR
VERSION:2.0
PRODID:-//ChamberMaster//Event Calendar 2.0//EN
METHOD:PUBLISH
X-PUBLISHED-TTL:P3D
REFRESH-INTERVAL:P3D
CALSCALE:GREGORIAN
BEGIN:VEVENT
DTSTART:20171106T220000Z
DTEND:20171106T223000Z
X-MICROSOFT-CDO-ALLDAYEVENT:FALSE
SUMMARY:Board & Brush Ribbon Cutting
DESCRIPTION:Join us as we celebrate the grand opening of Board & Brush!
X-ALT-DESC;FMTTYPE=text/html:Join us as we celebrate the grand opening of Board &amp\; Brush!
LOCATION:20 Main St Cape Girardeau\, MO
UID:e.1421.1814
SEQUENCE:3
DTSTAMP:20260423T174008Z
URL:https://business.capechamber.com/events/details/board-brush-ribbon-cutting-1814
END:VEVENT

END:VCALENDAR
