BEGIN:VCALENDAR
VERSION:2.0
PRODID:-//ChamberMaster//Event Calendar 2.0//EN
METHOD:PUBLISH
X-PUBLISHED-TTL:P3D
REFRESH-INTERVAL:P3D
CALSCALE:GREGORIAN
BEGIN:VEVENT
DTSTART:20181022T190000Z
DTEND:20181022T193000Z
X-MICROSOFT-CDO-ALLDAYEVENT:FALSE
SUMMARY:BOLD Marketing Ribbon Cutting
DESCRIPTION:Join us as we help BOLD Marketing celebrate 10 years in business with a ribbon cutting.
X-ALT-DESC;FMTTYPE=text/html:Join us as we help BOLD Marketing celebrate 10 years in business with a ribbon cutting.&nbsp\;
LOCATION:1922 Independence Cape Girardeau\, MO
UID:e.1421.5680
SEQUENCE:3
DTSTAMP:20260424T090641Z
URL:https://business.capechamber.com/events/details/bold-marketing-ribbon-cutting-5680
END:VEVENT

END:VCALENDAR
