BEGIN:VCALENDAR
VERSION:2.0
PRODID:-//ChamberMaster//Event Calendar 2.0//EN
METHOD:PUBLISH
X-PUBLISHED-TTL:P3D
REFRESH-INTERVAL:P3D
CALSCALE:GREGORIAN
BEGIN:VEVENT
DTSTART:20180518T153000Z
DTEND:20180518T153000Z
X-MICROSOFT-CDO-ALLDAYEVENT:FALSE
SUMMARY:Buffalo Wild Wings Ribbon Cutting
DESCRIPTION:Join us in celebrating the grand opening of Buffalo Wild Wing's new location in Cape Girardeau! After closing at their current location as of Monday\, May 14\, they will reopen at the new location immediately following the ribbon cutting.
X-ALT-DESC;FMTTYPE=text/html:Join us in celebrating the grand opening of Buffalo Wild Wing&#39\;s new location in Cape Girardeau! After closing at their current location as of Monday\, May 14\, they will reopen at the new location immediately following the ribbon cutting.&nbsp\;
LOCATION:211 Siemers Drive Cape Girardeau\, MO
UID:e.1421.5344
SEQUENCE:3
DTSTAMP:20260424T013056Z
URL:https://business.capechamber.com/events/details/buffalo-wild-wings-ribbon-cutting-5344
END:VEVENT

END:VCALENDAR
