BEGIN:VCALENDAR
VERSION:2.0
PRODID:-//ChamberMaster//Event Calendar 2.0//EN
METHOD:PUBLISH
X-PUBLISHED-TTL:P3D
REFRESH-INTERVAL:P3D
CALSCALE:GREGORIAN
BEGIN:VEVENT
DTSTART:20171103T200000Z
DTEND:20171103T203000Z
X-MICROSOFT-CDO-ALLDAYEVENT:FALSE
SUMMARY:Bug Zero Ground Breaking
DESCRIPTION:Join us as we celebrate the ground breaking of Bug Zero's new facility!
X-ALT-DESC;FMTTYPE=text/html:Join us as we celebrate the ground breaking of Bug Zero&#39\;s new facility!&nbsp\; &nbsp\; &nbsp\;&nbsp\;
LOCATION:849 S Kingshighway Cape Girardeau\, MO
UID:e.1421.1799
SEQUENCE:3
DTSTAMP:20260423T154836Z
URL:https://business.capechamber.com/events/details/bug-zero-ground-breaking-1799
END:VEVENT

END:VCALENDAR
