BEGIN:VCALENDAR
VERSION:2.0
PRODID:-//ChamberMaster//Event Calendar 2.0//EN
METHOD:PUBLISH
X-PUBLISHED-TTL:P3D
REFRESH-INTERVAL:P3D
CALSCALE:GREGORIAN
BEGIN:VEVENT
DTSTART:20260615T213000Z
DTEND:20260615T233000Z
X-MICROSOFT-CDO-ALLDAYEVENT:FALSE
SUMMARY:Business After Hours
DESCRIPTION:Business After Hours is a classic\, casual business networking and relationship building event that helps our members wind down with some interaction in a fun atmosphere.
X-ALT-DESC;FMTTYPE=text/html:Business After Hours is a classic\, casual business networking and relationship building event that helps our members wind down with some interaction in a fun atmosphere.&nbsp\;<br />\n<br />\n&nbsp\;
LOCATION:Ciao Ristorante + Enoteca 1650 N. Kingshighway\, Suite 102 Cape Girardeau\, MO 63701
UID:e.1421.12511
SEQUENCE:3
DTSTAMP:20260424T125757Z
URL:https://business.capechamber.com/events/details/business-after-hours-12511
END:VEVENT

END:VCALENDAR
