BEGIN:VCALENDAR
VERSION:2.0
PRODID:-//ChamberMaster//Event Calendar 2.0//EN
METHOD:PUBLISH
X-PUBLISHED-TTL:P3D
REFRESH-INTERVAL:P3D
CALSCALE:GREGORIAN
BEGIN:VEVENT
DTSTART:20180220T230000Z
DTEND:20180221T000000Z
X-MICROSOFT-CDO-ALLDAYEVENT:FALSE
SUMMARY:Business After Hours
DESCRIPTION:Join us at a local event venue for a networking opportunity with approximately 100 Cape Chamber members where you can connect and build relationships to help grow and improve your business. Doors open at 5:00 p.m. with sponsor comments and door prize drawings beginning around 5:30 p.m.\n\n\n\nSponsored by: \n\nDrury Hotels\n\nSoutheast Missouri State Athletics
X-ALT-DESC;FMTTYPE=text/html:<span style="color: rgb(0\, 0\, 0)\; font-family: Arial\, Helvetica\, sans-serif\; font-size: small\;">Join us at a local event venue for a networking opportunity with approximately 100 Cape Chamber members where you can connect and build relationships to help grow and improve your business. Doors open at 5:00 p.m. with sponsor comments and door prize&nbsp\;drawings beginning around 5:30 p.m.<br />\n<br />\nSponsored by:&nbsp\;</span><br />\n<span style="font-family:times new roman\,serif\;"><span style="font-size:12.0pt\;"><a href="https://www.druryhotels.com/">Drury Hotels</a><br />\n<a href="http://www.gosoutheast.com/">Southeast Missouri State Athletics</a></span></span>
LOCATION:Drury Plaza Conference Center
UID:e.1421.2058
SEQUENCE:3
DTSTAMP:20260423T205957Z
URL:https://business.capechamber.com/events/details/business-after-hours-2058
END:VEVENT

END:VCALENDAR
