BEGIN:VCALENDAR
VERSION:2.0
PRODID:-//ChamberMaster//Event Calendar 2.0//EN
METHOD:PUBLISH
X-PUBLISHED-TTL:P3D
REFRESH-INTERVAL:P3D
CALSCALE:GREGORIAN
BEGIN:VEVENT
DTSTART:20180320T220000Z
DTEND:20180320T230000Z
X-MICROSOFT-CDO-ALLDAYEVENT:FALSE
SUMMARY:Business After Hours
DESCRIPTION:Join us at a local event venue for a networking opportunity with approximately 100 Cape Chamber members where you can connect and build relationships to help grow and improve your business. Doors open at 5:00 p.m. with sponsor comments and door prize drawings beginning around 5:30 p.m.\n\n\n\nSponsored by: \n\nChartwells\n\nLegends Cape Girardeau
X-ALT-DESC;FMTTYPE=text/html:<span style="color: rgb(0\, 0\, 0)\; font-family: Arial\, Helvetica\, sans-serif\; font-size: small\;">Join us at a local event venue for a networking opportunity with approximately 100 Cape Chamber members where you can connect and build relationships to help grow and improve your business. Doors open at 5:00 p.m. with sponsor comments and door prize&nbsp\;drawings beginning around 5:30 p.m.<br />\n<br />\nSponsored by:&nbsp\;<br />\n<a href="http://ChartwellsHigherEd.com">Chartwells</a><br />\n<a href="http://www.legendscapeg.com/">Legends Cape Girardeau</a></span>
LOCATION:Cape Girardeau Country Club 250 Country Club Drive Cape Girardeau\, MO
UID:e.1421.4264
SEQUENCE:3
DTSTAMP:20260423T222037Z
URL:https://business.capechamber.com/events/details/business-after-hours-4264
END:VEVENT

END:VCALENDAR
