BEGIN:VCALENDAR
VERSION:2.0
PRODID:-//ChamberMaster//Event Calendar 2.0//EN
METHOD:PUBLISH
X-PUBLISHED-TTL:P3D
REFRESH-INTERVAL:P3D
CALSCALE:GREGORIAN
BEGIN:VEVENT
DTSTART:20180417T220000Z
DTEND:20180417T230000Z
X-MICROSOFT-CDO-ALLDAYEVENT:FALSE
SUMMARY:Business After Hours
DESCRIPTION:Join us at a local event venue for a networking opportunity with approximately 100 Cape Chamber members where you can connect and build relationships to help grow and improve your business. Doors open at 5:00 p.m. with sponsor comments and door prize drawings beginning around 5:30 p.m.\n\n\n\nSponsored by: \n\nBanterra Bank\n\nElement 74
X-ALT-DESC;FMTTYPE=text/html:<span style="color: rgb(0\, 0\, 0)\; font-family: Arial\, Helvetica\, sans-serif\; font-size: small\;">Join us at a local event venue for a networking opportunity with approximately 100 Cape Chamber members where you can connect and build relationships to help grow and improve your business. Doors open at 5:00 p.m. with sponsor comments and door prize&nbsp\;drawings beginning around 5:30 p.m.<br />\n<br />\nSponsored by:&nbsp\;<br />\n<a href="https://www.banterra.com/">Banterra Bank</a><br />\n<a href="https://www.element74.com/">Element 74</a></span>
LOCATION:River Campus - Atrium Southeast Missouri State University 518 South Fountain Street Cape Girardeau\, MO
UID:e.1421.4266
SEQUENCE:3
DTSTAMP:20260423T235513Z
URL:https://business.capechamber.com/events/details/business-after-hours-4266
END:VEVENT

END:VCALENDAR
