BEGIN:VCALENDAR
VERSION:2.0
PRODID:-//ChamberMaster//Event Calendar 2.0//EN
METHOD:PUBLISH
X-PUBLISHED-TTL:P3D
REFRESH-INTERVAL:P3D
CALSCALE:GREGORIAN
BEGIN:VEVENT
DTSTART:20180515T220000Z
DTEND:20180515T230000Z
X-MICROSOFT-CDO-ALLDAYEVENT:FALSE
SUMMARY:Business After Hours
DESCRIPTION:Join us at a local event venue for a networking opportunity with approximately 100 Cape Chamber members where you can connect and build relationships to help grow and improve your business. Doors open at 5:00 p.m. with sponsor comments and door prize drawings beginning around 5:30 p.m.\n\n\n\nSponsored by: \n\nMontgomery Bank\n\nKohlfeld Distributing\, Inc.
X-ALT-DESC;FMTTYPE=text/html:<span style="color: rgb(0\, 0\, 0)\; font-family: Arial\, Helvetica\, sans-serif\; font-size: small\;">Join us at a local event venue for a networking opportunity with approximately 100 Cape Chamber members where you can connect and build relationships to help grow and improve your business. Doors open at 5:00 p.m. with sponsor comments and door prize&nbsp\;drawings beginning around 5:30 p.m.<br />\n<br />\nSponsored by:&nbsp\;<br />\n<a href="https://www.montgomerybank.com">Montgomery Bank</a><br />\n<a href="http://www.kohlfelddistributing.com">Kohlfeld Distributing\, Inc.</a></span>
LOCATION:Montgomery Bank Training Center 526 West Main Street Jackson\, MO
UID:e.1421.4336
SEQUENCE:3
DTSTAMP:20260424T012940Z
URL:https://business.capechamber.com/events/details/business-after-hours-4336
END:VEVENT

END:VCALENDAR
