BEGIN:VCALENDAR
VERSION:2.0
PRODID:-//ChamberMaster//Event Calendar 2.0//EN
METHOD:PUBLISH
X-PUBLISHED-TTL:P3D
REFRESH-INTERVAL:P3D
CALSCALE:GREGORIAN
BEGIN:VEVENT
DTSTART:20180717T220000Z
DTEND:20180717T230000Z
X-MICROSOFT-CDO-ALLDAYEVENT:FALSE
SUMMARY:Business After Hours
DESCRIPTION:Join us at a local event venue for a networking opportunity with approximately 100 Cape Chamber members where you can connect and build relationships to help grow and improve your business. Doors open at 5:00 p.m. with sponsor comments and door prize drawings beginning around 5:30 p.m.\n\n\n\nSponsored by: \n\nCape Girardeau Regional Airport\n\nSouthern Bank
X-ALT-DESC;FMTTYPE=text/html:Join us at a local event venue for a networking opportunity with approximately 100 Cape Chamber members where you can connect and build relationships to help grow and improve your business. Doors open at 5:00 p.m. with sponsor comments and door prize&nbsp\;drawings beginning around 5:30 p.m.<br />\n<br />\nSponsored by:&nbsp\;<br />\n<a href="https://www.cityofcapegirardeau.org/departments/airport"><span style="color:#008000\;">Cape Girardeau Regional Airport</span></a><br />\n<a href="https://www.bankwithsouthern.com/"><span style="color:#008000\;">Southern Bank</span></a>
LOCATION:Cape Girardeau Regional Airport
UID:e.1421.5563
SEQUENCE:3
DTSTAMP:20260424T042648Z
URL:https://business.capechamber.com/events/details/business-after-hours-5563
END:VEVENT

END:VCALENDAR
