BEGIN:VCALENDAR
VERSION:2.0
PRODID:-//ChamberMaster//Event Calendar 2.0//EN
METHOD:PUBLISH
X-PUBLISHED-TTL:P3D
REFRESH-INTERVAL:P3D
CALSCALE:GREGORIAN
BEGIN:VEVENT
DTSTART:20180821T220000Z
DTEND:20180821T230000Z
X-MICROSOFT-CDO-ALLDAYEVENT:FALSE
SUMMARY:Business After Hours
DESCRIPTION:Join us at a local event venue for a networking opportunity with approximately 100 Cape Chamber members where you can connect and build relationships to help grow and improve your business. Doors open at 5:00 p.m. with sponsor comments and door prize drawings beginning around 5:30 p.m.\n\n\n\nSponsored by: \n\nGFI Digital\n\nKFVS
X-ALT-DESC;FMTTYPE=text/html:Join us at a local event venue for a networking opportunity with approximately 100 Cape Chamber members where you can connect and build relationships to help grow and improve your business. Doors open at 5:00 p.m. with sponsor comments and door prize&nbsp\;drawings beginning around 5:30 p.m.<br />\n<br />\nSponsored by:&nbsp\;<br />\n<a href="https://www.gfidigital.com" target="_blank"><span style="color:#008000\;">GFI Digital</span></a><br />\n<a href="http://kfvs12.com" target="_blank"><span style="color:#008000\;">KFVS</span></a>
LOCATION:Celebrations Downtown
UID:e.1421.5614
SEQUENCE:3
DTSTAMP:20260424T053820Z
URL:https://business.capechamber.com/events/details/business-after-hours-5614
END:VEVENT

END:VCALENDAR
