BEGIN:VCALENDAR
VERSION:2.0
PRODID:-//ChamberMaster//Event Calendar 2.0//EN
METHOD:PUBLISH
X-PUBLISHED-TTL:P3D
REFRESH-INTERVAL:P3D
CALSCALE:GREGORIAN
BEGIN:VEVENT
DTSTART:20181120T230000Z
DTEND:20181121T000000Z
X-MICROSOFT-CDO-ALLDAYEVENT:FALSE
SUMMARY:Business After Hours
DESCRIPTION:Join us at a local event venue for a networking opportunity with approximately 100 Cape Chamber members where you can connect and build relationships to help grow and improve your business. Doors open at 5:00 p.m. with sponsor comments and door prize drawings beginning around 5:30 p.m.\n\n\n\nSponsored by: \n\nShow Me Center\n\nMoments Catering by 36 Restaurant & Bar
X-ALT-DESC;FMTTYPE=text/html:Join us at a local event venue for a networking opportunity with approximately 100 Cape Chamber members where you can connect and build relationships to help grow and improve your business. Doors open at 5:00 p.m. with sponsor comments and door prize&nbsp\;drawings beginning around 5:30 p.m.<br />\n<br />\nSponsored by:&nbsp\;<br />\n<a href="https://www.capechamber.com/members/show-me-center"><span style="color:#008000\;">Show Me Center</span></a><br />\n<a href="https://www.capechamber.com/members/36-restaurant-bar-llc-cape-girardeau"><span style="color:#008000\;">Moments Catering by 36 Restaurant &amp\; Bar</span></a>
LOCATION:Show Me Center
UID:e.1421.5678
SEQUENCE:3
DTSTAMP:20260424T091258Z
URL:https://business.capechamber.com/events/details/business-after-hours-5678
END:VEVENT

END:VCALENDAR
