BEGIN:VCALENDAR
VERSION:2.0
PRODID:-//ChamberMaster//Event Calendar 2.0//EN
METHOD:PUBLISH
X-PUBLISHED-TTL:P3D
REFRESH-INTERVAL:P3D
CALSCALE:GREGORIAN
BEGIN:VEVENT
DTSTART:20181218T230000Z
DTEND:20181219T000000Z
X-MICROSOFT-CDO-ALLDAYEVENT:FALSE
SUMMARY:Business After Hours
DESCRIPTION:Help grow your business by joining over 100 Cape Chamber members at a local event venue for this monthly networking opportunity. Doors open at 5:00 p.m. giving you the opportunity to connect and build relationships with other Chamber members\, and sponsor comments and door prize drawings begin around 5:30 p.m.\n\n\n\nSponsored by: \n\nBuzzi Unicem USA\n\nEBO Health
X-ALT-DESC;FMTTYPE=text/html:Help grow your business by joining over 100 Cape Chamber members at a local event venue for this monthly networking opportunity.&nbsp\;Doors open at 5:00 p.m. giving you the opportunity to connect and build relationships with other Chamber members\, and sponsor comments and door prize&nbsp\;drawings begin around 5:30 p.m.<br />\n<br />\nSponsored by:&nbsp\;<br />\n<a href="http://www.buzziunicemusa.com/"><span style="color:#008000\;">Buzzi Unicem USA</span></a><br />\n<a href="http://www.doyouebo.com/"><span style="color:#008000\;">EBO Health</span></a>
LOCATION:The Library (Downtown) 10 S. Spanish Street Cape Girardeau\, MO
UID:e.1421.5705
SEQUENCE:3
DTSTAMP:20260424T073205Z
URL:https://business.capechamber.com/events/details/business-after-hours-5705
END:VEVENT

END:VCALENDAR
