BEGIN:VCALENDAR
VERSION:2.0
PRODID:-//ChamberMaster//Event Calendar 2.0//EN
METHOD:PUBLISH
X-PUBLISHED-TTL:P3D
REFRESH-INTERVAL:P3D
CALSCALE:GREGORIAN
BEGIN:VEVENT
DTSTART:20171219T230000Z
DTEND:20171220T000000Z
X-MICROSOFT-CDO-ALLDAYEVENT:FALSE
SUMMARY:Business After Hours
DESCRIPTION:Doors open at 5:00 p.m. Sponsors to be announced.
X-ALT-DESC;FMTTYPE=text/html:<span style="color: rgb(0\, 0\, 0)\; font-family: Arial\, Helvetica\, sans-serif\; font-size: small\;">Doors open at 5:00 p.m. Sponsors to be announced.&nbsp\;</span>
LOCATION:Cape Girardeau Regional Airport 860 Limbaugh Dr. Cape Girardeau\, MO 63701
UID:e.1421.734
SEQUENCE:3
DTSTAMP:20260423T173900Z
URL:https://business.capechamber.com/events/details/business-after-hours-734
END:VEVENT

END:VCALENDAR
