BEGIN:VCALENDAR
VERSION:2.0
PRODID:-//ChamberMaster//Event Calendar 2.0//EN
METHOD:PUBLISH
X-PUBLISHED-TTL:P3D
REFRESH-INTERVAL:P3D
CALSCALE:GREGORIAN
BEGIN:VEVENT
DTSTART:20171017T210000Z
DTEND:20171017T230000Z
X-MICROSOFT-CDO-ALLDAYEVENT:FALSE
SUMMARY:Business After Hours - Educator of the Year
DESCRIPTION:Doors open at 4:00 p.m. Title Sponsor: Wood & Huston Bank.
X-ALT-DESC;FMTTYPE=text/html:<span style="color: rgb(0\, 0\, 0)\; font-family: Arial\, Helvetica\, sans-serif\; font-size: small\;">Doors open at 4:00 p.m. Title Sponsor: Wood &amp\; Huston Bank.&nbsp\;</span>
LOCATION:Show Me Center 1333 N. Sprigg Cape Girardeau\, Missouri
UID:e.1421.732
SEQUENCE:3
DTSTAMP:20260423T142043Z
URL:https://business.capechamber.com/events/details/business-after-hours-educator-of-the-year-732
END:VEVENT

END:VCALENDAR
