BEGIN:VCALENDAR
VERSION:2.0
PRODID:-//ChamberMaster//Event Calendar 2.0//EN
METHOD:PUBLISH
X-PUBLISHED-TTL:P3D
REFRESH-INTERVAL:P3D
CALSCALE:GREGORIAN
BEGIN:VEVENT
DTSTART:20180207T173000Z
DTEND:20180207T190000Z
X-MICROSOFT-CDO-ALLDAYEVENT:FALSE
SUMMARY:Business Builders Exchange
DESCRIPTION:Business Builders Exchange is a President/CEO round-table\, quarterly luncheon series designed for businesses with fewer than 30 employees. The focus of this program is information exchange\, relationship building (among other President/CEOs) and other efforts to strengthen existing business. \n\n\n\nPlease contact Kim Voelker for further information.\n\n\n\nSession Dates: \n\nFebruary 7\, 2017\n\nMay 2\, 2017\n\nAugust 1\, 2018\n\nNovember 7\, 2018
X-ALT-DESC;FMTTYPE=text/html:Business Builders Exchange is a President/CEO round-table\, quarterly luncheon series designed for businesses with fewer than 30 employees. The focus of this program is information exchange\, relationship building (among other President/CEOs) and other efforts to strengthen existing business.&nbsp\;<br />\n<br />\nPlease contact <a href="mailto:kvoelker@capechamber.com?subject=Business%20Builders%20Exchange">Kim Voelker</a> for further information.<br />\n<br />\nSession Dates:&nbsp\;<br />\nFebruary 7\, 2017<br />\nMay 2\, 2017<br />\nAugust 1\, 2018<br />\nNovember 7\, 2018
LOCATION:Regional Development Center Cape Chamber 220 North Fountain St. Cape Girardeau\, MO
UID:e.1421.2052
SEQUENCE:3
DTSTAMP:20260423T205956Z
URL:https://business.capechamber.com/events/details/business-builders-exchange-2052
END:VEVENT

END:VCALENDAR
