BEGIN:VCALENDAR
VERSION:2.0
PRODID:-//ChamberMaster//Event Calendar 2.0//EN
METHOD:PUBLISH
X-PUBLISHED-TTL:P3D
REFRESH-INTERVAL:P3D
CALSCALE:GREGORIAN
BEGIN:VEVENT
DTSTART:20180502T163000Z
DTEND:20180502T180000Z
X-MICROSOFT-CDO-ALLDAYEVENT:FALSE
SUMMARY:Business Builders Exchange - May 2\, 2018 Session
DESCRIPTION:Important HR basics for small business owners - Holli Hammer\, 3HR Consulting\n\nWhen you are running a small business\, there are so many things to take care of - sales\, marketing\,  development\, etc. - all while trying to make a profit and stay in business.  With those concerns sometimes human resources can be overlooked or under-prioritized.  Learn about some basic HR functions that every small business owner should know about.\n\n\n\nPLEASE RSVP YOUR ATTENDANCE BY FRIDAY\, APRIL 27  mlitzelfelner@capechamber.com\n\n\n\nUpcoming Session Dates: \n\nAugust 1\, 2018\n\nNovember 7\, 2018
X-ALT-DESC;FMTTYPE=text/html:<br />\n<span style="font-family:tahoma\;"><strong>Important HR basics for small business owners - Holli&nbsp\;Hammer\, 3HR&nbsp\;Consulting</strong><br />\n<em>When you are running a small business\, there are so many things to take care of - sales\, marketing\,&nbsp\; development\, etc. - all while trying to make a profit and stay in business.&nbsp\; With those concerns sometimes human resources can be overlooked or under-prioritized.&nbsp\; Learn about some basic HR functions that every small business owner should know about.</em><br />\n<br />\n<b>PLEASE RSVP YOUR ATTENDANCE BY FRIDAY\, APRIL 27 &nbsp\;<a href="mailto:mlitzelfelner@capechamber.com">mlitzelfelner@capechamber.com</a></b><br />\n<br />\n<u><strong>Upcoming Session Dates:&nbsp\;</strong></u><br />\nAugust 1\, 2018<br />\nNovember 7\, 2018</span><br />\n<br />\n&nbsp\;
LOCATION:Regional Development Center - Board Room Cape Chamber 220 North Fountain St. Cape Girardeau\, MO
UID:e.1421.2053
SEQUENCE:3
DTSTAMP:20260424T013034Z
URL:https://business.capechamber.com/events/details/business-builders-exchange-may-2-2018-session-2053
END:VEVENT

END:VCALENDAR
