BEGIN:VCALENDAR
VERSION:2.0
PRODID:-//ChamberMaster//Event Calendar 2.0//EN
METHOD:PUBLISH
X-PUBLISHED-TTL:P3D
REFRESH-INTERVAL:P3D
CALSCALE:GREGORIAN
BEGIN:VEVENT
DTSTART:20180619T200000Z
DTEND:20180619T201500Z
X-MICROSOFT-CDO-ALLDAYEVENT:FALSE
SUMMARY:Business Builders Facebook Live
DESCRIPTION:Join us for Episode 6 of our Business Builders Facebook Live Series! This month we are chatting succession planning with Jennifer Hendrickson\, CEO of Hendrickson Business Advisors.
X-ALT-DESC;FMTTYPE=text/html:Join us for Episode 6 of our Business Builders Facebook Live Series! This month we are chatting succession planning with Jennifer Hendrickson\, CEO of Hendrickson Business Advisors.
LOCATION:Cape Chamber Facebook Page
UID:e.1421.5553
SEQUENCE:3
DTSTAMP:20260424T024914Z
URL:https://business.capechamber.com/events/details/business-builders-facebook-live-5553
END:VEVENT

END:VCALENDAR
