BEGIN:VCALENDAR
VERSION:2.0
PRODID:-//ChamberMaster//Event Calendar 2.0//EN
METHOD:PUBLISH
X-PUBLISHED-TTL:P3D
REFRESH-INTERVAL:P3D
CALSCALE:GREGORIAN
BEGIN:VEVENT
DTSTART:20180823T160000Z
DTEND:20180823T163000Z
X-MICROSOFT-CDO-ALLDAYEVENT:FALSE
SUMMARY:Business Builders Facebook Live
DESCRIPTION:Join us for Episode 8 of our Business Builders Facebook Live Series! This month we are chatting intrapreneurship with Jeff Rawson\, Creative Director of rustmedia.
X-ALT-DESC;FMTTYPE=text/html:Join us for Episode 8 of our Business Builders Facebook Live Series! This month we are chatting intrapreneurship with Jeff Rawson\, Creative Director of rustmedia.
LOCATION:Cape Chamber Facebook Page
UID:e.1421.5628
SEQUENCE:3
DTSTAMP:20260424T054017Z
URL:https://business.capechamber.com/events/details/business-builders-facebook-live-5628
END:VEVENT

END:VCALENDAR
