BEGIN:VCALENDAR
VERSION:2.0
PRODID:-//ChamberMaster//Event Calendar 2.0//EN
METHOD:PUBLISH
X-PUBLISHED-TTL:P3D
REFRESH-INTERVAL:P3D
CALSCALE:GREGORIAN
BEGIN:VEVENT
DTSTART:20180222T173000Z
DTEND:20180222T190000Z
X-MICROSOFT-CDO-ALLDAYEVENT:FALSE
SUMMARY:Business Builders Workshop - Bitcoin Mania: The rise of cryptocurrency
DESCRIPTION:Hear from experts about the rise of more than 1\,300 cryptocurrencies\, including the most widely known\, Bitcoin. Learn about how blockchain technology is changing the way we live and do business on the Internet.\n\n \n\nSpeakers include:\n\nChris Edmonds\, President and CEO at Element 74\n\nAndrew Bard\, Owner at MyCrypto Solutions\, LLC\n\nGreg Vaughn\, Marketing Manager at Cape Cars Auto Group
X-ALT-DESC;FMTTYPE=text/html:Hear from experts about the rise of more than 1\,300 cryptocurrencies\, including the most widely known\, Bitcoin. Learn about how&nbsp\;blockchain&nbsp\;technology is changing the way&nbsp\;we live&nbsp\;and do business on the Internet.<br />\n&nbsp\;<br />\nSpeakers include:<br />\nChris Edmonds\, President and CEO at Element 74<br />\nAndrew Bard\, Owner at MyCrypto Solutions\, LLC<br />\nGreg Vaughn\, Marketing Manager at Cape Cars Auto Group
LOCATION:Cape Chamber Regional Development Center 220 N. Fountain Cape Girardeau\, MO
UID:e.1421.3862
SEQUENCE:3
DTSTAMP:20260423T210211Z
URL:https://business.capechamber.com/events/details/business-builders-workshop-bitcoin-mania-the-rise-of-cryptocurrency-3862
END:VEVENT

END:VCALENDAR
