BEGIN:VCALENDAR
VERSION:2.0
PRODID:-//ChamberMaster//Event Calendar 2.0//EN
METHOD:PUBLISH
X-PUBLISHED-TTL:P3D
REFRESH-INTERVAL:P3D
CALSCALE:GREGORIAN
BEGIN:VEVENT
DTSTART:20170629T163000Z
DTEND:20170629T180000Z
X-MICROSOFT-CDO-ALLDAYEVENT:FALSE
SUMMARY:Business Builders Workshop - Business in the 21st Century
DESCRIPTION:Chris Edmonds\, Kyle Adams\, and Erin Miller of Element 74 will be exploring the power of emerging technologies in business. Covering everything from how to use Facebook Live effectively to the ever-changing criteria of Google's search algorithms\, to how the Internet of Things could change the customer service industry forever - there's no shortage of things to learn.\n\n\n\n$15 per attendee - includes lunch
X-ALT-DESC;FMTTYPE=text/html:Chris Edmonds\, Kyle Adams\, and Erin Miller of Element 74 will be exploring the power of emerging technologies in business. Covering everything from how to use Facebook Live effectively to the ever-changing criteria of Google&#39\;s search algorithms\, to how the Internet of Things could change the customer service industry forever - there&#39\;s no shortage of things to learn.<br />\n<br />\n$15 per attendee - includes lunch&nbsp\;<br />\n&nbsp\;
LOCATION:Regional Development Center (located at the Chamber Office) 220 North Fountain
UID:e.1421.758
SEQUENCE:3
DTSTAMP:20260423T101849Z
URL:https://business.capechamber.com/events/details/business-builders-workshop-business-in-the-21st-century-758
END:VEVENT

END:VCALENDAR
