BEGIN:VCALENDAR
VERSION:2.0
PRODID:-//ChamberMaster//Event Calendar 2.0//EN
METHOD:PUBLISH
X-PUBLISHED-TTL:P3D
REFRESH-INTERVAL:P3D
CALSCALE:GREGORIAN
BEGIN:VEVENT
DTSTART:20170926T163000Z
DTEND:20170926T180000Z
X-MICROSOFT-CDO-ALLDAYEVENT:FALSE
SUMMARY:Business Builders Workshop - Communicating Across the Generations
DESCRIPTION:For the first time we have four generations in the workplace striving to be productive and effective.  Each generation comes from diverse backgrounds\, they communicate differently\, are motivated by various factors\, and want different things from their work. This interactive workshop will help you bridge the communications gap and learn to work with people in other generations better.\n\n\n\nPresented by Jennifer Hendrickson with Hendrickson Business Advisors.  \n\n\n\n$15 per person - includes lunch \n\n\n\nRegistration for this event is full. To be added to the waiting list\, click here.
X-ALT-DESC;FMTTYPE=text/html:<span style="font-family:arial\;"><span style="color:#000000\;">For the first time we have four generations in the workplace striving to be productive and effective.&nbsp\; Each generation comes from diverse backgrounds\, they communicate differently\, are motivated by various factors\, and want different things from their work. This interactive workshop will help you bridge the communications gap and learn to work with people in other generations better.</span><br />\n<br />\nPresented by Jennifer Hendrickson with Hendrickson Business Advisors. &nbsp\;</span><br />\n<br />\n$15 per person - includes lunch&nbsp\;<br />\n<br />\n<span style="color:#FF0000\;">Registration for this event is full. To be added to the waiting list\,</span> <a href="https://secure2.chambermaster.com/eventregistration/register/1789?layout=Backoffice&amp\;authToken=mu81%2BIseTADc6JEtDfAVlT6RlBjOpcIEjd4m69e%2B81FjhBfpAvoMMw%3D%3D#/waitlist/">click here</a><span style="color:#FF0000\;">.&nbsp\;</span>
LOCATION:Cape Chamber - Regional Development Center 220 North Fountain St.
UID:e.1421.1789
SEQUENCE:3
DTSTAMP:20260423T124722Z
URL:https://business.capechamber.com/events/details/business-builders-workshop-communicating-across-the-generations-1789
END:VEVENT

END:VCALENDAR
